BEGIN:VCALENDAR
VERSION:2.0
PRODID:-//Butze Eventlocation - ECPv6.0.4//NONSGML v1.0//EN
CALSCALE:GREGORIAN
METHOD:PUBLISH
X-ORIGINAL-URL:https://www.falkos-butze.de
X-WR-CALDESC:Events for Butze Eventlocation
REFRESH-INTERVAL;VALUE=DURATION:PT1H
X-Robots-Tag:noindex
X-PUBLISHED-TTL:PT1H
BEGIN:VTIMEZONE
TZID:Europe/Berlin
BEGIN:DAYLIGHT
TZOFFSETFROM:+0100
TZOFFSETTO:+0200
TZNAME:CEST
DTSTART:20250330T010000
END:DAYLIGHT
BEGIN:STANDARD
TZOFFSETFROM:+0200
TZOFFSETTO:+0100
TZNAME:CET
DTSTART:20251026T010000
END:STANDARD
END:VTIMEZONE
BEGIN:VEVENT
DTSTART;TZID=Europe/Berlin:20251101T190000
DTEND;TZID=Europe/Berlin:20251101T235900
DTSTAMP:20260425T175054
CREATED:20250714T165944Z
LAST-MODIFIED:20251101T104923Z
UID:2143-1762023600-1762041540@www.falkos-butze.de
SUMMARY:AUSVERKAUFT - La Ultima - Böhse Onkelz Tribute -
DESCRIPTION:2025 steht ganz unter dem Stern der „La Familia“! Die sympathischste Onkelz Tribute Band des Landes feiert mit ihrer energiegeladenen Show ein ganzjähriges Familienfest welches mit allen stimmungsgeladenen Klassikern und Gassenhauern in Erinnerung bleiben wird. \n\n\nNach der Party ist vor der Party! Auch an Allerheiligen müssen wir nicht ewig still sein\, am Abend dürfen wir wieder Gas geben! \nDie Band La Ultima hat sich mit ihrer Show einen festen Rang als einzigartige Böhse Onkelz Tribute Band erspielt. Den Liedern der Frankfurter Legenden wird auf eine frische Weise neues Leben eingehaucht. Genau dieser Ruf eilte der Band voraus und gipfelte nach einem Anruf aus dem Hause Onkelz in einem Auftritt auf dem Matapaloz Festival in Leipzig. Seitdem dürfen sich „La Ultima“\, geprüft durch die Originalinterpreten das Prädikat als „eine der besten Onkelzcoverbands“ aufdrücken. Eine einzigartige Mischung mit der die Vier bodenständigen und sympathischen Jungs allen Klischees grinsend den Mittelfinger zeigen! Große Publikumsnähe\, eine  energiegeladene Liveshow\, starke Bühnenpräsenz und eine Prise Humor unterstreichen die Individualität dieser Band. – Werdet Teil von „La Familia“ \n\n„Wir spielen die Songs\, als wären es unsere! Das kommt an\, den Ruf haben wir weg.“ \nEinlass 19 Uhr\, Beginn 20 Uhr\nTickets VK 20€ / AK 22€: \nOnline: https://eventfrog.de/de/p/konzert/pop-rock/la-ultima-boehse-onkelz-tribute-familientreffen-tour-2025-7350569010172310100.html \noder im Falko Tel.: 02152-9947226 oder unter Tel.: 0171-7572912
URL:https://www.falkos-butze.de/event/la-ultima-boehse-onkelz-tribute-familientreffen-tour-2025/
LOCATION:Butze\, Butzenstr. 43\, Tönisvorst\, NRW\, 47918\, Deutschland
CATEGORIES:All Events
ATTACH;FMTTYPE=image/jpeg:https://www.falkos-butze.de/wp-content/uploads/2025/07/Flyer-La-Ultima-2025-251101-scaled.jpg
END:VEVENT
BEGIN:VEVENT
DTSTART;TZID=Europe/Berlin:20251107T190000
DTEND;TZID=Europe/Berlin:20251107T235900
DTSTAMP:20260425T175054
CREATED:20250903T192239Z
LAST-MODIFIED:20250903T193326Z
UID:2218-1762542000-1762559940@www.falkos-butze.de
SUMMARY:WRECIA FORD - Soul Night\, von New York auf die Bühne der Butze
DESCRIPTION:bzw. Von New York nach Köln wo Wrecia Ford heute lebt und arbeitet. \nIn New York war Wrecia Mitglied der ALL STAR Jam Band\, die jeden Mittwoch im angesagtesten Live-Musik-Club der Stadt auftrat\, wo alle großen Musiker vorbeikamen\, um mitzuspielen. Darunter Künstler wie Rod Stewart\, Keith Richards\, Nile Rogers\, Bruce Willis\, John Goodman\, Aron Neville\, Rick James\, Stevie Ray Vahn\, Jon Bon Jovi und Cyndi Lauper\, Phone Snow\, Paul Young und viele\, viele mehr. \nWir freuen uns Wrecia Ford erstmalig auf der Bühne der Butze begrüßen zu dürfen und versprechen euch ein wahres stimmgewaltiges Soul-Night Feuerwerk. \nEinige USA Credits:\nWrecia tourte und arbeitete u.a. auch mit\nDebbie Gibson (Südostasien\, Japan\, Südamerika\, Indonesien)\,\nGary U.S. Bonds (USA-Tournee)\,\nBilly Joel (River of Dreams\, All About Soul) und\nKathy Trocolli (Vorgruppe für Michael Bolton und Vorgruppe für Jay Leno in Las Vegas) \nAls Highlights in den USA sind anzuführen:\nArsenio Hall Show\,\nJay Leno Show\,\nTop Of The Pops\, Rock\,\nRock IN RIO (Brasilien) und\nSaturday Night Live\,\nsowie zahlreiche Studioaufnahmen und Voice-Overs für Fernsehwerbung und damals Gesang für einem Filmsoundtrack mit Beth Hart. \nEinige deutsche Credits\nIn Deutschland hat Wrecia mit Inga Rumpf als Gastsängerin bei Eloy\, zusammengearbeitet und ist als\nVorsängerin für Maceo Parker (Leverkusen Jazz Festival)\,\nBozz Scaggs (Stadtgarten Köln)\,\nMeat Loaf / Alice Cooper (Lorely\, Deutschland) und\nGeld oder Liebe (Jürgen von der Lippe) aufgetreten. \nEinlass: 19 Uhr\, Beginn 21 Uhr\nTickets: VK 15€ / AK 20€: \nOnline: https://eventfrog.de/de/p/konzert/pop-rock/wrecia-ford-soul-night-special-edition-7368276716383391614.html \noder im Falko Tel.: 02152-9947226 oder unter Tel.: 0171-7572912
URL:https://www.falkos-butze.de/event/wrecia-ford-soul-night-von-new-york-in-die-butze/
LOCATION:Butze\, Butzenstr. 43\, Tönisvorst\, NRW\, 47918\, Deutschland
CATEGORIES:All Events
ATTACH;FMTTYPE=image/jpeg:https://www.falkos-butze.de/wp-content/uploads/2025/09/Flyer-BUTZE_November_A3_web-scaled.jpg
END:VEVENT
BEGIN:VEVENT
DTSTART;TZID=Europe/Berlin:20251114T190000
DTEND;TZID=Europe/Berlin:20251114T235900
DTSTAMP:20260425T175054
CREATED:20250623T172447Z
LAST-MODIFIED:20251111T145215Z
UID:2067-1763146800-1763164740@www.falkos-butze.de
SUMMARY:Boobylicious - Rockcover
DESCRIPTION:Es tut uns wirklich sehr leid. \nAber aufgrund eines tragischen familiären Ereignisses innerhalb der Band müssen wir das Konzert am kommenden Freitag in der Butze in Tönisvorst absagen.\nIch denke\, jeder hat Verständnis für diesen Weg… \nDie Familie geht vor\, deshalb stehen die Band als auch die Butze geschlossen hinter dieser Entscheidung.
URL:https://www.falkos-butze.de/event/boobylicious-rockcover/
LOCATION:Butze\, Butzenstr. 43\, Tönisvorst\, NRW\, 47918\, Deutschland
CATEGORIES:All Events
ATTACH;FMTTYPE=image/jpeg:https://www.falkos-butze.de/wp-content/uploads/2025/06/ABSAGE.jpg
END:VEVENT
BEGIN:VEVENT
DTSTART;TZID=Europe/Berlin:20251115T173000
DTEND;TZID=Europe/Berlin:20251115T235900
DTSTAMP:20260425T175054
CREATED:20250820T074417Z
LAST-MODIFIED:20250820T075350Z
UID:2202-1763227800-1763251140@www.falkos-butze.de
SUMMARY:Eizbrand – EBSC Party Volume III
DESCRIPTION:Nach den großen Erfolgen in 2023 und 2024\, geht es für die EBSC e.V. Party nun in die dritte Runde. Zum letzten Mal in der Butze in Tönisvorst\, da diese Ende 2025 schließt. Das heißt jedoch auch\, dass wir es nochmal richtig krachen lassen\, bevor wir uns für 2026 ein neues Zuhause für diese jährliche Party suchen. KONFETTI ERLAUBT! \n\n\nDie Tickets sind ausschließlich digital verfügbar und streng limitiert. In den letzten zwei Jahren waren die Shows jeweils ausverkauft\, darum wartet nicht zu lange mit der Bestellung. Es wird keine Aufstockung oder Umverlegung geben. \nWeitere Infos zum Fanfest und Konzert findet ihr auch auf unserer Webseite www.eizbrand-shop.de \n\n\nEinlass: 17:30 Uhr\, Beginn 19:30 Uhr\nTickets: NUR ONLINE VK 29\,95 €\nOnline: https://www.eizbrand-shop.de/Tickets/Eizbrand-EBSC-Party-Volume-III-in-Toenisvorst::120540.html
URL:https://www.falkos-butze.de/event/eizbrand-ebsc-party-volume-iii/
LOCATION:Butze\, Butzenstr. 43\, Tönisvorst\, NRW\, 47918\, Deutschland
CATEGORIES:All Events
ATTACH;FMTTYPE=image/jpeg:https://www.falkos-butze.de/wp-content/uploads/2025/08/EBSC-Event_Nov25_IG-Story.jpeg.jpg
END:VEVENT
BEGIN:VEVENT
DTSTART;TZID=Europe/Berlin:20251119T190000
DTEND;TZID=Europe/Berlin:20251119T235900
DTSTAMP:20260425T175054
CREATED:20250623T172535Z
LAST-MODIFIED:20250623T172535Z
UID:2070-1763578800-1763596740@www.falkos-butze.de
SUMMARY:BLUG\, GRANFELT & ENGELIEN - Double Strat Magic!
DESCRIPTION:Gitarren-Doppelspitze: BLUG\, GRANFELT & ENGELIEN liefern ein unvergessliches Gitarren-Match „Made In Heaven“ Die beiden herausragenden Gitarristen\, Thomas Blug und Ben Granfelt\, verbindet eine jahrzehntelange Freundschaft\, die ihren Ursprung auf der Frankfurter Musikmesse in den späten 1990er Jahren fand. Seitdem haben sie immer wieder gemeinsam musiziert\, wobei Thomas sogar als Gast auf Bens Soloalbum „Melodic Relief“ (2012) in Erscheinung trat. Im Jahr 2019 wurden sie eingeladen\, im Rahmen von Martin Engeliens GO MUSIC eine Tour zu absolvieren\, die sich als großer Erfolg erwies. Jetzt geht die faszinierende Zusammenarbeit in die nächste Runde! Der Höhepunkt ihrer kreativen Symbiose aus dieser außergewöhnlichen Erfahrung manifestiert ein gemeinsames Album\, welches nicht nur beeindruckendes musikalisches Können\, sondern auch ihre Fähigkeit\, harmonische Jam-Sessions zu gestalten und großartige Songs zu kreieren. Die Veröffentlichung ist für Frühsommer 2024 geplant. Ben Granfelt\, der mit einer imponierenden Geschichte von Welttourneen mit z.B. Wishbone Ash oder den Leningrad Cowboys und 20 Soloalben glänzt\, betont die Freude\, die es ihm bereitet\, mit Thomas Blug zusammenzuarbeiten. Auf der Bühne verschmelzen die Harmonien ihrer Gitarren zu einem fesselnden Klangbild\, getragen von intensiven musikalischen Dialogen. Thomas Blug\, unter dem Namen „Stratking of Europe“ bekannt (Titel verliehen von Fender 2004 als bester Stratocaster Spieler Europas)\, hat ebenfalls zahlreiche Soloalben veröffentlicht und jongliert geschickt zwischen seiner Rolle als Gründer von Bluguitar – einem Unternehmen für Gitarrenverstärkerdesign – sowie seinen künstlerischen Engagements. Ob mit seiner Band Blug Plays Hendrix oder seinem Power Trio Rockanarchie\, Thomas findet stets Gelegenheit\, sein virtuoses Gitarrenspiel zu präsentieren. Martin Engelien\, der kreative Kopf hinter den GO MUSIC Konzerten\, ist in der deutschen Musikszene als Bassist\, Produzent und Musiker ein etablierter Name. Seine langjährige Zusammenarbeit mit renommierten Künstlern wie Klaus Lage und Albert Mangelsdorff unterstreicht seine beeindruckende Vielseitigkeit. Die drei Musiker erhalten tatkräftige Unterstützung von Tommy Fischer am Schlagzeug\, einem äußerst talentierten Drummer\, der bereits mit Stars wie Miller Anderson und Guildo Horn zusammengearbeitet hat. Die unvergleichliche Verschmelzung der Talente von BLUG\, GRANFELT & ENGELIEN verspricht ein Gitarren-Match „Made In Heaven“\, das die Zuhörer auf eine unvergessliche musikalische Reise mitnimmt. \nEinlass 19 Uhr\, Beginn 20 Uhr\nTickets VK 19€ / AK 23€: \nOnline: https://eventfrog.de/de/p/konzert/jazz-blues/blug-granfelt-engelien-double-strat-magic-7342550685659981330.html \noder im Falko oder unter Tel.: 0171-7572912
URL:https://www.falkos-butze.de/event/blug-granfelt-engelien-double-strat-magic-2/
LOCATION:Butze\, Butzenstr. 43\, Tönisvorst\, NRW\, 47918\, Deutschland
CATEGORIES:All Events
ATTACH;FMTTYPE=image/jpeg:https://www.falkos-butze.de/wp-content/uploads/2025/06/Blug-Granfelt-Engelien-Flyer-A4-2025-11-19.jpg
END:VEVENT
BEGIN:VEVENT
DTSTART;TZID=Europe/Berlin:20251122T190000
DTEND;TZID=Europe/Berlin:20251122T235900
DTSTAMP:20260425T175054
CREATED:20250727T083131Z
LAST-MODIFIED:20250727T084128Z
UID:2165-1763838000-1763855940@www.falkos-butze.de
SUMMARY:O-Sixtyone - Heavy Rock’n’Roll live
DESCRIPTION:Heavy Rock’n’Roll live – unter diesem Motto erobern O-Sixtyone die Bühne der Butze. \nAm 22. November 2025 heißt es wieder: „It’s time to play it loud for Rock’n’Roll!“ Die Band O-Sixtyone aus dem Mönchengladbacher Raum bringt ihren kraftvollen Heavy Rock’n’Roll auf die Bühne der Butze. Mit geballter Energie und einem Sound\, der die großen Jahrzehnte des Rock zelebriert\, liefern O-Sixtyone ein Live-Erlebnis\, das kein Rockfan verpassen sollte. Authentisch\, laut und kompromisslos – genau so\, wie echter Rock’n’Roll sein muss! Seid dabei\, wenn die Verstärker aufgedreht werden und der Spirit des Rock die Nacht übernimmt! \nEinlass 19 Uhr\, Beginn 20 Uhr\nTickets VK 12€ / AK 15€: \nOnline: https://eventfrog.de/de/p/konzert/pop-rock/o-sixtyone-heavy-rocknroll-live-7355152095064943279.html \noder im Falko Tel.: 02152-9947226 oder unter Tel.: 0171-7572912
URL:https://www.falkos-butze.de/event/o-sixtyone-heavy-rocknroll-live/
LOCATION:Butze\, Butzenstr. 43\, Tönisvorst\, NRW\, 47918\, Deutschland
CATEGORIES:All Events
ATTACH;FMTTYPE=image/jpeg:https://www.falkos-butze.de/wp-content/uploads/2025/07/Flyer-O-Sixtyone-v1.jpg
END:VEVENT
BEGIN:VEVENT
DTSTART;TZID=Europe/Berlin:20251127T190000
DTEND;TZID=Europe/Berlin:20251127T235900
DTSTAMP:20260425T175054
CREATED:20250623T172653Z
LAST-MODIFIED:20251110T122816Z
UID:2073-1764270000-1764287940@www.falkos-butze.de
SUMMARY:Dennis Hormes and Friends
DESCRIPTION:Dennis Hormes and Friends. Auch im November verzaubert euch Dennis Hormes and Friends wieder mit einer frischen Mischung aus Soul\, Pop\, Funk und Blues Songs. Tickets können absofort erworben werden. \nDie November-Besetzung lautet wie folgt: \nVocal: Marius „Muri“ Müller\nDrums: Ettore Olla\nKeys:Daniel Sok\nBass: Günter Asbeck\nGuitar: Dennis Hormes \nEinlass 19 Uhr\, Beginn 20 Uhr\nTickets VK 15€ / AK 20€: \nOnline: https://eventfrog.de/de/p/konzert/pop-rock/dennis-hormes-and-friends-7342552873811584361.html \noder im Falko Tel.: 02152-9947226 oder unter Tel.: 0171-757291
URL:https://www.falkos-butze.de/event/dennis-hormes-and-friends-13/
LOCATION:Butze\, Butzenstr. 43\, Tönisvorst\, NRW\, 47918\, Deutschland
CATEGORIES:All Events
ATTACH;FMTTYPE=image/jpeg:https://www.falkos-butze.de/wp-content/uploads/2025/06/Flyer-2025-11-Dennis-and-Friends.jpg
END:VEVENT
BEGIN:VEVENT
DTSTART;TZID=Europe/Berlin:20251129T190000
DTEND;TZID=Europe/Berlin:20251129T235900
DTSTAMP:20260425T175054
CREATED:20250724T144743Z
LAST-MODIFIED:20250724T150523Z
UID:2153-1764442800-1764460740@www.falkos-butze.de
SUMMARY:Siscus - A Tribute to Neil Young / Support Blues GPS
DESCRIPTION:SISCUS – A TRINUTE TO NEIL YOUNG\nDer Kopf von Siscus\, Frans Clout\, ist die Niederländische Kopie von Neil Young. Was er mit seiner Stimme und Gitarrenspiel bietet\, ist unglaublich. Wenn man die Augen schließt\, meint man\, daß Original steht auf der Bühne. Unterstütz wird er von Holger Seeling am Bass und Ralf Irmen an den Drums. \nSupport an dem Abend macht die Band Blues GPS.\nBlues GPS ist eine Band\, die sich dem Blues und Rock and Roll zugewandt hat. Sie besteht aus 4 Musikern. Von A (Louis Armstrong) bis Z (ZZ Top) spielt die Band\, was guter Blues und Rock and Roll zu bieten hat. Die Besetzung besteht aus Gesang: Ludwig Rox\, Bass: Danjelo Piuzi\, Harp: Uwe Schlotmann und Schlagzeug: Ralf Irmen. \nWährend des Konzertabends geht der Hut rum. Über einen entsprechenden Einwurf würden die Musiker sich freuen. \nEinlass 19 Uhr\, Beginn 20 Uhr
URL:https://www.falkos-butze.de/event/siscus-a-tribute-to-neil-young-support-blues-gps/
LOCATION:Butze\, Butzenstr. 43\, Tönisvorst\, NRW\, 47918\, Deutschland
CATEGORIES:All Events
ATTACH;FMTTYPE=image/jpeg:https://www.falkos-butze.de/wp-content/uploads/2025/07/Flyer-Siscus-Support-Blues-GPS_web.jpg
END:VEVENT
END:VCALENDAR