BEGIN:VCALENDAR
VERSION:2.0
PRODID:-//Butze Eventlocation - ECPv6.0.4//NONSGML v1.0//EN
CALSCALE:GREGORIAN
METHOD:PUBLISH
X-WR-CALNAME:Butze Eventlocation
X-ORIGINAL-URL:https://www.falkos-butze.de
X-WR-CALDESC:Events for Butze Eventlocation
REFRESH-INTERVAL;VALUE=DURATION:PT1H
X-Robots-Tag:noindex
X-PUBLISHED-TTL:PT1H
BEGIN:VTIMEZONE
TZID:Europe/Berlin
BEGIN:DAYLIGHT
TZOFFSETFROM:+0100
TZOFFSETTO:+0200
TZNAME:CEST
DTSTART:20250330T010000
END:DAYLIGHT
BEGIN:STANDARD
TZOFFSETFROM:+0200
TZOFFSETTO:+0100
TZNAME:CET
DTSTART:20251026T010000
END:STANDARD
END:VTIMEZONE
BEGIN:VEVENT
DTSTART;TZID=Europe/Berlin:20251002T190000
DTEND;TZID=Europe/Berlin:20251002T235900
DTSTAMP:20260425T190953
CREATED:20250623T171559Z
LAST-MODIFIED:20250929T083810Z
UID:2091-1759431600-1759449540@www.falkos-butze.de
SUMMARY:ROXXETTE 100% LIVE - Crash! Boom! Bang! Tour
DESCRIPTION:ROXXETTE 100% Live – Crash! Boom! Bang! Tour \nleider muss das Konzert Krankheitsbedingt abgesagt werden! \n\n\n  \nFalko Tel.: 02152-9947226 oder unter Tel.: 0171-7572912
URL:https://www.falkos-butze.de/event/roxxette-100-live-crash-boom-bang-tour-2/
LOCATION:Butze\, Butzenstr. 43\, Tönisvorst\, NRW\, 47918\, Deutschland
CATEGORIES:All Events
ATTACH;FMTTYPE=image/jpeg:https://www.falkos-butze.de/wp-content/uploads/2025/06/Flyer-2025-Absage.jpg
END:VEVENT
BEGIN:VEVENT
DTSTART;TZID=Europe/Berlin:20251004T190000
DTEND;TZID=Europe/Berlin:20251004T235900
DTSTAMP:20260425T190953
CREATED:20250623T171659Z
LAST-MODIFIED:20250704T120205Z
UID:2053-1759604400-1759622340@www.falkos-butze.de
SUMMARY:Psycho Sexy - Red Hot Chili Peppers Tribute
DESCRIPTION:Psycho Sexy – Europe´s finest Red Hot Chili Peppers Tribute Band \n2012 wurden die Red Hot Chili Peppers mit folgeder Ansage in die Rock n´Roll Hall of Fame aufgenommen. “I want you to welcome one of the best rock groups\, one of the best rap groups\, one of the best reggae groups\, one of the best ska groups\, one of the best punk rock groups…” Treffender hätte man es kaum sagen  können. Keine Band der letzten 35 Jahre hat so viel Einfluss auf die folgenden Musikgeneration gehabt\, wie die kalifornische Supergroup. Genreübergreifend. Auch kommerziell gehören die Peppers mit über 120 Millionen verkauften Tonträgern\, zu den erfolgreichsten Bands der Musikgeschichte. Seit 2003 zollt Psycho Sexy  diesen Legenden Ihren Tribut. Mit nie endender Spielfreude rockt und funkt sich das Quartett aus dem Rheinland durch die komplette Diskographie der Kalifornier. Dabei sind die vier Vollblutmusiker jederzeit in der Lage\, die Grenzen zwischen Original und Kopie komplett zu verwischen. Um dem Zuschauer die komplette llusion eines Red Hot Chili Peppers Konzerts zu ermöglichen\, belassen Psycho Sexy es nicht nur bei Sound\, Instrumenten und Outfits\, sondern überzeugen mit hochwertiger LED- Videotechnik auch die letzten Zweifler. \nWie wurde es mal von einer renomierten Künstleragentur formuliert “Böse Zungen behaupten – live besser als das  Original” Gibt es ein größeres Kompliment!? \nEinlass 19 Uhr\, Beginn 20 Uhr\nTickets VK 18€ / AK 23€: \nOnline: https://eventfrog.de/de/p/konzert/pop-rock/psycho-sexy-red-hot-chili-peppers-tribute-7342519208658396372.html \noder im Falko Tel.: 02152-9947226 oder unter Tel.: 0171-7572912
URL:https://www.falkos-butze.de/event/psycho-sexy-red-hot-chili-peppers-tribute-2/
LOCATION:Butze\, Butzenstr. 43\, Tönisvorst\, NRW\, 47918\, Deutschland
CATEGORIES:All Events
ATTACH;FMTTYPE=image/jpeg:https://www.falkos-butze.de/wp-content/uploads/2025/06/V2-Psycho-Sexy-Flyer.jpg
END:VEVENT
BEGIN:VEVENT
DTSTART;TZID=Europe/Berlin:20251006T190000
DTEND;TZID=Europe/Berlin:20251006T235900
DTSTAMP:20260425T190953
CREATED:20250726T144252Z
LAST-MODIFIED:20250905T063705Z
UID:2163-1759777200-1759795140@www.falkos-butze.de
SUMMARY:GO MUSIC zurück auf Tour – Oktober 2025: Ein Neubeginn voller Energie
DESCRIPTION:Die Sommerpause ist vorbei – und GO MUSIC meldet sich im Oktober mit voller Kraft zurück! \nDas erfolgreiche Bandprojekt der deutschen Bass-Legende Martin Engelien startet seine Herbsttournee durch sieben Städte in NRW und bringt damit nicht weniger als den Geist der großen Rock- und Pop-Ära in die Gegenwart. Seit fast drei Jahrzehnten steht GO MUSIC für Konzerte\, die sich jedem Schema verweigern. Keine starren Setlisten\, kein routiniertes Abspulen – hier passiert Musik im Moment. Ganz im Sinne jener Legenden wie Cream\, Pink Floyd oder Chicago\, deren Spielfreude und Mut zum Risiko Pate stehen. Die Bühne wird zum Labor\, in dem Klassiker der Rock-\, Soul- und Popgeschichte der letzten 70 Jahre mit Leidenschaft\, Virtuosität und Spontanität neu erfunden werden. Doch Achtung: GO MUSIC ist keine Coverband\, auch keine Tribute-Show. Was Martin Engelien und seine Mitstreiter präsentieren\, sind eigenständige Interpretationen – mit einer Wucht und Authentizität\, die nur absolute Könner ihres Fachs erreichen können. Musiker\, die sonst mit internationalen Stars touren\, verschmelzen auf der Bühne zu einer Einheit\, die jedes Stück Musik neu zum Leben erweckt. Jeder Abend ein Unikat – unvorherhörbar\, nie wiederholbar. \nFür den Neustart ins 30. Jahr seit Gründung hat  Engelien eine Besetzung zusammengestellt\, die schon auf dem Papier elektrisiert. Steven Mageney\, charismatischer Frontmann der Schweizer Hard-Rock-Formation Crystal Ball\, wird erstmals gemeinsam mit seinem Sohn\, dem jungen Schlagzeuger Jason Steve Mageney\, eine Tournee bestreiten. Eine Begegnung der Generationen – voller Energie\, Spielfreude und gelebter Musiktradition. Ergänzt wird das Line-up von Dirk Edelhoff\, einem Gitarristen\, der längst als einer der feinsten Virtuosen seines Fachs gilt. Mit seiner stilistischen Bandbreite und seinem unverwechselbaren Ton schafft er jenen Sog\, der jedes Konzert von GO MUSIC zu einem Ereignis macht. \nWer also nach der Sommerpause wieder Lust auf echte Live-Musik hat\, die packt\, überrascht und beflügelt\, sollte sich die GO MUSIC Tour im Oktober 2025 nicht entgehen lassen. Hier lebt Musik – im besten Sinne. \nEinlass: 19 Uhr\, Beginn 20 Uhr\nTickets: VK 15 / AK 18 Euro \nOnline: https://eventfrog.de/de/p/konzert/pop-rock/go-music-zurueck-auf-tour-oktober-2025-7369617424562313222.html \noder im Falko oder unter Tel.: 0171-7572912
URL:https://www.falkos-butze.de/event/go-music-3/
LOCATION:Butze\, Butzenstr. 43\, Tönisvorst\, NRW\, 47918\, Deutschland
CATEGORIES:All Events
ATTACH;FMTTYPE=image/jpeg:https://www.falkos-butze.de/wp-content/uploads/2025/07/2025-10-Poster-Falkos-Butze-Toenisvorst.jpg
END:VEVENT
BEGIN:VEVENT
DTSTART;TZID=Europe/Berlin:20251011T190000
DTEND;TZID=Europe/Berlin:20251011T235900
DTSTAMP:20260425T190953
CREATED:20250623T171751Z
LAST-MODIFIED:20250726T143913Z
UID:2056-1760209200-1760227140@www.falkos-butze.de
SUMMARY:Dr Bob - Classic Rock Cover
DESCRIPTION:„Zurück zu den Wurzeln und dem\, was uns als junge Musiker inspiriert hat.“ \nSo haben sich im Frühjahr 2022 vier Viersener Musiker aufgemacht\, um nach der Pandemie die Songs Ihrer Idole von einst wieder mit dem Publikum zu teilen. In Ihrem musikalischen Medizin-Schrank finden sich Künstler/Bands wie Brian Adams\, Van Halen\, ZZ-Top\, Papa Roach oder Iron Maiden. Halt alles\, was gesunder Gitarrenrock so zu bieten hat… \nNebenbei: das Chef-Arzt-Team von Dr. Bob ist\, „in aller Freundschaft“ gesagt wert\, gesehen zu werden. Da wären zum einen „Prof.-Dr.-Guitar“ Markus Vögeler und „Dr.-Bass“ Walde Kronberg\, beide ehemalige Mitglieder der Band Ranzig\, welche das melodische und harmonische Skalpell führen. Ihnen wird assistiert von „Dr.-Vocs.“ Steff Rittau bekannt als Sänger der Krefelder Band Lewinsky und „Dr. Drum“ Thomas Moia am Schlagzeug\, die beide alles andere als Narkose-Ärzte sind. http://drbob-rockt.de \nEinlass 19 Uhr\, Beginn 20 Uhr\nTickets VK 15€ / AK 18€: \nOnline: https://eventfrog.de/de/p/konzert/pop-rock/dr-bob-classic-rock-cover-7342521833126679753.html \noder im Falko Tel.: 02152-9947226 oder unter Tel.: 0171-7572912
URL:https://www.falkos-butze.de/event/dr-bob-classic-rock-cover-4/
LOCATION:Butze\, Butzenstr. 43\, Tönisvorst\, NRW\, 47918\, Deutschland
CATEGORIES:All Events
ATTACH;FMTTYPE=image/jpeg:https://www.falkos-butze.de/wp-content/uploads/2025/06/Poster-Flyer-Dr-Bob.jpg
END:VEVENT
BEGIN:VEVENT
DTSTART;TZID=Europe/Berlin:20251018T190000
DTEND;TZID=Europe/Berlin:20251018T235900
DTSTAMP:20260425T190953
CREATED:20250707T094029Z
LAST-MODIFIED:20250707T094152Z
UID:2127-1760814000-1760831940@www.falkos-butze.de
SUMMARY:COCKY JOE - A Tribute To Joe Cocker
DESCRIPTION:Wer die Musik von “Joe Cocker“ mag\, wird an diesem Abend bestimmt auf seine Kosten kommen. Mit der Band “Cocky Joe“ kommen sieben erfahrene Musiker\, die sich schon seit vielen Jahrzehnten auch in anderen Rockformationen einen Namen gemacht haben. Nach dem Tod von Joe Cocker im Dezember 2014 griff der Mülheimer Sänger Günter Büschges die Idee auf\, eine Cocker Tribute Band zu gründen. Ein Name war schnell gefunden und so wurde die Tribute Band “Cocky Joe“ gegründet. Seit dieser Zeit ist die Band ein sehr gefragter Tribute-Act geworden und ist auch recht häufig auf größeren Bühnen zu finden. Bei ihren Konzerten begeistern sie das Publikum immer wieder durch ihre Spielfreude und vor allem mit ihrem Frontmann “Günter Büschges“ am Mikrofon hätte keine bessere Wahl getroffen werden können. \nFazit: Ein Abend den man nicht verpassen sollte! – Für Joe Cocker-Fans und alle die Spass an guter Live Musik ein Muss! \nCocky Joe sind: Peter Hochheim: Drums Rolf\, Heckenberger: Bass\, Jürgen Wehmeyer: Guitar und Backingvocals\, Colly Franssen Keyboards. Günter Büschges: Lead Vocals. Noah Boyer Lead und Backingvocals und Andrea Schilling Backingvocals. \nEinlass 19 Uhr\, Beginn 20 Uhr\nTickets VK 15€ / AK 18€: \nOnline: https://eventfrog.de/de/p/konzert/pop-rock/cocky-joe-a-tribute-to-joe-cocker-7347920639246785901.html \noder im Falko Tel.: 02152-9947226 oder unter Tel.: 0171-7572912
URL:https://www.falkos-butze.de/event/cocky-joe-a-tribute-to-joe-cocker-2/
LOCATION:Butze\, Butzenstr. 43\, Tönisvorst\, NRW\, 47918\, Deutschland
CATEGORIES:All Events
ATTACH;FMTTYPE=image/jpeg:https://www.falkos-butze.de/wp-content/uploads/2025/06/Cocky-Joe-2025.jpg
END:VEVENT
BEGIN:VEVENT
DTSTART;TZID=Europe/Berlin:20251023T190000
DTEND;TZID=Europe/Berlin:20251023T235900
DTSTAMP:20260425T190953
CREATED:20250623T171919Z
LAST-MODIFIED:20251010T120827Z
UID:2059-1761246000-1761263940@www.falkos-butze.de
SUMMARY:Dennis Hormes and Friends
DESCRIPTION:Dennis Hormes and Friends. Auch im Oktober verzaubert euch Dennis Hormes and Friends wieder mit einer frischen Mischung aus Soul\, Pop\, Funk und Blues Songs. \nDie Besetzung im Oktober wird sein:\nJanine Schäfer – Vocal\nEttore Olla – Drums\nDaniel Sok – Keys\nGünter Asbeck – Bass\nDennis Hormes – Guitar /Vocal \nTickets können absofort erworben werden. \nEinlass 19 Uhr\, Beginn 20 Uhr\nTickets VK 15€ / AK 20€: \nOnline: https://eventfrog.de/de/p/konzert/pop-rock/dennis-hormes-and-friends-7342523360914455217.html \noder im Falko Tel.: 02152-9947226 oder unter Tel.: 0171-757291
URL:https://www.falkos-butze.de/event/dennis-hormes-and-friends-12/
LOCATION:Butze\, Butzenstr. 43\, Tönisvorst\, NRW\, 47918\, Deutschland
CATEGORIES:All Events
ATTACH;FMTTYPE=image/jpeg:https://www.falkos-butze.de/wp-content/uploads/2025/06/Flyer-2025-10-Dennis-and-Friends-V2.jpg
END:VEVENT
BEGIN:VEVENT
DTSTART;TZID=Europe/Berlin:20251025T183000
DTEND;TZID=Europe/Berlin:20251025T235900
DTSTAMP:20260425T190953
CREATED:20250623T172227Z
LAST-MODIFIED:20250623T172227Z
UID:2063-1761417000-1761436740@www.falkos-butze.de
SUMMARY:KING Grefrather Rocknacht und Party
DESCRIPTION:Am 25 Oktober 2025 verwandelt sich KinG in ein Rock-Mekka! Sei dabei\, wenn die KinG Rocknacht die Bühne in der Butze zum letzen Mal zum Beben bringt und erlebe drei hochkarätige Bands live. \nDie Bands des Abends: \nJOD-\nJOD live: ein Roadtrip in die späten 60er\nVon Neil Young bis Tom Petty: JOD rocken jede Veranstaltung live. Die Musiker vom\nNiederrhein performen einen Mix aus Rockklassikern wie The Pusher (Steppenwolf)\, In a\nwhite room (Cream)\, Ohio (Neil Young)\, You can’t always get what you want und Mary\nJane’s last dance (Tom Petty). Dazu kommen eigene Songs\, beeinflusst von der Psychedelic\nMusic der ausgehenden 60er Jahre\, Stoner-Rock-Elementen\, aber auch Reggae-Beats. Der\nneuste JOD Song von 2025: Bright Lights\, ein hymnischer Rocksong über einen Roadtrip. \nThe Breeze Brothers – Die Gebrüder Breeze\, die ja nicht nur gefühlt schon seit ihrer Kindheit gemeinsam musizieren- Mit ihren außergewöhnlichen Interpretationen von Klassikern und deren B Seiten versprechen sie ein musikalisches Abenteuer der besonderen Art. Dieses Mal haben sie insbesondere die 80er mit im Rock!Sack . Lasst euch überraschen! \nMight be Loud – Zum Abschluss gibt es eine Party\, die ihresgleichen sucht! Die Rockcover-Band aus Nettetal wird wieder mit kraftvollen Songs für den perfekten Ausklang des Abends sorgen. Rockige Sounds\, die das Publikum auf die Tanzfläche ziehen – diese Party wird wieder laut und unvergesslich! \nEin Abend voller Abwechslung und mitreißender Musik – sichere dir dein Ticket und sei Teil der KinG Rocknacht! \nEinlass 18:30 Uhr\, Beginn 19:30 Uhr\nTickets VK 10€ / AK 15€: \nOnline: Tickets : https://eventfrog.de/de/p/konzert/pop-rock/king-grefrather-rocknacht-in-der-butze-7342537319449116769.html \nTickets gibt es auch bei den Bands\, im Falco\, und in Grefrath bei Lotto Theisen .
URL:https://www.falkos-butze.de/event/king-grefrather-rocknacht-und-party/
LOCATION:Butze\, Butzenstr. 43\, Tönisvorst\, NRW\, 47918\, Deutschland
CATEGORIES:All Events
ATTACH;FMTTYPE=image/jpeg:https://www.falkos-butze.de/wp-content/uploads/2025/06/Flyer-KinG-Rock-Nacht-2025.jpg
END:VEVENT
BEGIN:VEVENT
DTSTART;TZID=Europe/Berlin:20251031T190000
DTEND;TZID=Europe/Berlin:20251031T235900
DTSTAMP:20260425T190953
CREATED:20250623T172331Z
LAST-MODIFIED:20250623T172331Z
UID:2088-1761937200-1761955140@www.falkos-butze.de
SUMMARY:Udopia und das volle Programm
DESCRIPTION:Der Wuppertaler Sänger René Oschmann ist seit vielen Jahren begeisterter Fan des deutschen Super-Stars Udo Lindenberg. Seit 2012 doubelt er Panik Udo auf den Bühnen in der Bunten Republik Deutschland. UDOPIA hat er das Projekt getauft\, mit dem er seinem musikalischem Idol seit 2016 huldigt. UDOPIA ist eine grandiose Show – das volle Programm der besten Songs der singenden Nachtigall Udo Lindenberg. Das Projekt UDOPIA wurde bereits 2015 gegründet und feierte beim Wuppertaler Charity Festival WUPPERTAL HILFT! 2016 eine rauschende Premiere. Die über 3000 Fans waren so begeistert\, dass für René Oschmann & Co klar war: Wir machen weiter Bis ans Ende der Welt. Nehmen Sie Platz im Sonderzug nach Pankow für eine unvergessliche Zeitreise durch 50 Jahre Panik-Rock. Optisch und akustisch authentisch präsentiert René Oschmann quasi als Zwillingsbruder von Udo Lindenberg mit begnadeten Profi-Musikern an seiner Seite die perfekte Illusion immer mit dem größten Respekt vor dem Original. Sein Idol Udo Lindenberg hat René Oschmann immer wieder auf seiner musikalischen Reise getroffen. Ein Meilenstein in seinem Leben: 2015 trat der Wuppertaler Sänger im Rahmen der Präsentation der Biografie von Steffi Stephan\, Udo Lindenbergs langjähriger Freund und Bassist seines Panik Orchesters\, auf dem Segelschiff Golden Leuww in Hamburg auf. \nProme-Trailer: https://youtu.be/QIqB1fmSztA?si=n8vaNxWl7Q-1fHpm \nEinlass 19:30 Uhr\, Beginn 20:30 Uhr\nTickets VK 19€ / AK 24€: \nOnline: https://eventfrog.de/de/p/konzert/pop-rock/udopia-und-das-volle-programm-7342903786808030739.html \noder im Falko Tel.: 02152-9947226 oder unter Tel.: 0171-7572912
URL:https://www.falkos-butze.de/event/udopia-und-das-volle-programm-2/
LOCATION:Butze\, Butzenstr. 43\, Tönisvorst\, NRW\, 47918\, Deutschland
CATEGORIES:All Events
ATTACH;FMTTYPE=image/jpeg:https://www.falkos-butze.de/wp-content/uploads/2025/06/Flyer-Utopia-2025.jpg
END:VEVENT
END:VCALENDAR