BEGIN:VCALENDAR
VERSION:2.0
PRODID:-//Butze Eventlocation - ECPv6.0.4//NONSGML v1.0//EN
CALSCALE:GREGORIAN
METHOD:PUBLISH
X-WR-CALNAME:Butze Eventlocation
X-ORIGINAL-URL:https://www.falkos-butze.de
X-WR-CALDESC:Events for Butze Eventlocation
REFRESH-INTERVAL;VALUE=DURATION:PT1H
X-Robots-Tag:noindex
X-PUBLISHED-TTL:PT1H
BEGIN:VTIMEZONE
TZID:Europe/Berlin
BEGIN:DAYLIGHT
TZOFFSETFROM:+0100
TZOFFSETTO:+0200
TZNAME:CEST
DTSTART:20250330T010000
END:DAYLIGHT
BEGIN:STANDARD
TZOFFSETFROM:+0200
TZOFFSETTO:+0100
TZNAME:CET
DTSTART:20251026T010000
END:STANDARD
END:VTIMEZONE
BEGIN:VEVENT
DTSTART;TZID=Europe/Berlin:20250815T190000
DTEND;TZID=Europe/Berlin:20250815T235900
DTSTAMP:20260425T220150
CREATED:20250807T160703Z
LAST-MODIFIED:20250807T160703Z
UID:2187-1755284400-1755302340@www.falkos-butze.de
SUMMARY:Alley Swipers & Meeting Point aus Frankreich
DESCRIPTION:Die Alley Swipers spielen unter anderem Stücke von Jimi Hendrix\, Lynyrd Skynyrd\, Rolling Stones\, Prince\, Radiohead\, Guns N’Roses\, uvm. und treten damit erfolgreich auf verschiedenen Straßenfesten und Locations auf. Mit unserer Interpretation der einzelnen Musikstücke begeistern wir die Zuschauer und nehmen sie auf eine Zeitreise durch die verschiedenen Jahrzehnte der Blues & Rock Classics mit. Für uns ist es das Größte unsere Freude und Energie\, die uns die Musik und die Performance gibt\, mit so vielen Menschen wie möglich zu teilen. \nMit im Gepäck haben sie die französiche Band Meeting Point. Meeting Point mischt gerne Rock-Sounds\, von den 80er Jahren bis heute. Was sie am meisten lieben\, ist\, diesen musikalischen Wahnsinn an ihr Publikum weiterzugeben! Cocktail-Atmosphäre oder Rock-Atmosphäre\, Sie haben die Wahl (und Sie können beides wählen!) \nEinlass: 19 Uhr\, Beginn 20 Uhr\nTickets: VK 12€ / AK 15€ \nOnline: https://eventfrog.de/de/p/konzert/pop-rock/alley-swipers-meeting-point-aus-frankreich-7359253076635604073.html \noder im Falko Tel.: 02152-9947226 oder unter Tel.: 0171-7572912
URL:https://www.falkos-butze.de/event/alley-swipers-meeting-point-aus-frankreich/
LOCATION:Butze\, Butzenstr. 43\, Tönisvorst\, NRW\, 47918\, Deutschland
CATEGORIES:All Events
ATTACH;FMTTYPE=image/jpeg:https://www.falkos-butze.de/wp-content/uploads/2025/08/Flyer-Alley-Swipers-und-Meeting-Point_web.jpg
END:VEVENT
BEGIN:VEVENT
DTSTART;TZID=Europe/Berlin:20250821T190000
DTEND;TZID=Europe/Berlin:20250821T235900
DTSTAMP:20260425T220150
CREATED:20250623T171138Z
LAST-MODIFIED:20250805T101906Z
UID:2045-1755802800-1755820740@www.falkos-butze.de
SUMMARY:Dennis Hormes and Friends
DESCRIPTION:Dennis Hormes and Friends. Im August verzaubert euch Dennis Hormes and Friends wieder mit einer frischen Mischung aus Soul\, Pop\, Funk und Blues Songs. \nDie Besetzung für diesen Monat:\nVocal: Edita Abdieski\,\nKeys: Daniel Sok\,\nBass: Günter Asbeck\,\nDrums: Dirk Sengotta\nVocal/Guitar: Dennis Hormes. \nTickets können absofort erworben werden. \nEinlass 19 Uhr\, Beginn 20 Uhr\nTickets VK 15€ / AK 20€: \nOnline: https://eventfrog.de/de/p/konzert/pop-rock/dennis-hormes-and-friends-7342503577250743918.html \noder im Falko Tel.: 02152-9947226 oder unter Tel.: 0171-757291
URL:https://www.falkos-butze.de/event/dennis-hormes-and-friends-10/
LOCATION:Butze\, Butzenstr. 43\, Tönisvorst\, NRW\, 47918\, Deutschland
CATEGORIES:All Events
ATTACH;FMTTYPE=image/jpeg:https://www.falkos-butze.de/wp-content/uploads/2025/06/Flyer-Dennis-and-Friends_web-2025-08-21.jpg
END:VEVENT
END:VCALENDAR