BEGIN:VCALENDAR
VERSION:2.0
PRODID:-//Butze Eventlocation - ECPv6.0.4//NONSGML v1.0//EN
CALSCALE:GREGORIAN
METHOD:PUBLISH
X-WR-CALNAME:Butze Eventlocation
X-ORIGINAL-URL:https://www.falkos-butze.de
X-WR-CALDESC:Events for Butze Eventlocation
REFRESH-INTERVAL;VALUE=DURATION:PT1H
X-Robots-Tag:noindex
X-PUBLISHED-TTL:PT1H
BEGIN:VTIMEZONE
TZID:Europe/Berlin
BEGIN:DAYLIGHT
TZOFFSETFROM:+0100
TZOFFSETTO:+0200
TZNAME:CEST
DTSTART:20250330T010000
END:DAYLIGHT
BEGIN:STANDARD
TZOFFSETFROM:+0200
TZOFFSETTO:+0100
TZNAME:CET
DTSTART:20251026T010000
END:STANDARD
END:VTIMEZONE
BEGIN:VEVENT
DTSTART;TZID=Europe/Berlin:20250301T191100
DTEND;TZID=Europe/Berlin:20250301T235900
DTSTAMP:20260426T044815
CREATED:20250130T150111Z
LAST-MODIFIED:20250301T094614Z
UID:1989-1740856260-1740873540@www.falkos-butze.de
SUMMARY:Death Valley Party 2025
DESCRIPTION:die DVP lädt Euch auch dieses Jahr zur Karnevalsparty in die Butze ein und lässt wieder Konfetti fliegen. \nDas Dreigestirn bestehend aus Daniel & Lars sowie Andreas Jahn laden Euch mit Karnevals und Partymusik zu knackigen Tanzeinlagen ein. \nKarten zur Karnevalsause gibt es im Falko bei Daniel & Lars und online. \n\n\n\n\n\nEinlass ab 19:11 Uhr \nTickets VK 10€ / AK 15€: \nOnline: https://eventfrog.de/de/p/party/electro/death-valley-karnevalsparty-7290652323163991773.html \noder im Falko Tel.: 02152-9947226 oder unter Tel.: 0171-7572912
URL:https://www.falkos-butze.de/event/death-valley-party-2025/
LOCATION:Butze\, Butzenstr. 43\, Tönisvorst\, NRW\, 47918\, Deutschland
CATEGORIES:All Events
ATTACH;FMTTYPE=image/jpeg:https://www.falkos-butze.de/wp-content/uploads/2025/01/WhatsApp-Bild-2025-01-28-um-19.40.22_889772d2.jpg
END:VEVENT
BEGIN:VEVENT
DTSTART;TZID=Europe/Berlin:20250310T190000
DTEND;TZID=Europe/Berlin:20250310T235900
DTSTAMP:20260426T044815
CREATED:20250130T150443Z
LAST-MODIFIED:20250218T182528Z
UID:1993-1741633200-1741651140@www.falkos-butze.de
SUMMARY:GO MUSIC IM MÄRZ: MUSIKALISCHE EXPLOSION DER EXTRAKLASSE!
DESCRIPTION:Wenn pure musikalische Leidenschaft auf der Bühne entfesselt wird\, dann ist es wieder Zeit für die legendäre GO MUSIC Tournee! Seit 1996 bringt die von Bass-Virtuose Martin Engelien ins Leben gerufene Konzertreihe Monat für Monat ein einzigartiges Musikerlebnis\, das seinesgleichen sucht. Ohne vorherige Proben\, voller Spontaneität und mit einer unvergleichlichen Bühnenpräsenz entfacht GO MUSIC ein musikalisches Feuerwerk\, das die Zuschauer von der ersten bis zur letzten Note mitreißt. \nDer März verspricht ein besonders hochkarätiges Line-up. Im Zentrum des Geschehens steht die charismatische Stella Tonon\, eine Sängerin\, die auf der Bühne explodiert wie ein Vulkan und ihr Publikum in den Bann zieht. Ihre unglaubliche Vielseitigkeit\, die von Blues und Rock über Weltmusik bis hin zu psychedelischer Improvisation reicht\, macht jedes Konzert zu einem unvergesslichen Erlebnis. Ihr italienisches Temperament\, kombiniert mit portugiesischem Feuer und deutscher Coolness\, macht sie zu einer Ausnahmeerscheinung der Musikszene. Seit Jahren begeistert sie als Frontfrau von Peter Burschs „Bröselmaschine“ und sorgt auch auf der GO MUSIC Tournee für magische Momente. \nEin weiteres Highlight der März-Edition ist Ben Granfelt\, die finnische Gitarrenlegende. Mit 21 Soloalben und Erfahrungen bei Bands wie Wishbone Ash oder den Leningrad Cowboys bringt er nicht nur Weltklasse-Gitarrensound\, sondern auch gefühlvollen Gesang auf die Bühne. Granfelt und Tonon – ein explosives Duo\, das die Herzen höher schlagen lässt! \nUnterstützt werden sie von Thomas Lieven\, dem Meister der Trommeln. Als Schlagzeuger der Big Band der Bundeswehr hat er weltweit über 800 Auftritte absolviert und mit Künstlern wie Sweetbox\, Brings und Laith Al Deen zusammengearbeitet. Seine mitreißenden Grooves und atemberaubenden Soli sorgen für den perfekten Rhythmus\, der das Publikum in Ekstase versetzt. \nUnd natürlich dürfen wir den Mann nicht vergessen\, der GO MUSIC ins Leben gerufen hat: Martin Engelien! Als international gefragter Bassist\, Produzent und musikalischer Visionär hat er mit zahlreichen Top-Acts wie der Klaus Lage Band oder Focus gearbeitet. Mit mehr als 250 Fernsehauftritten und über 10 Millionen verkauften Tonträgern zählt er zu den einflussreichsten Musikern Deutschlands. Sein Groove ist das Fundament der GO MUSIC Tournee – kraftvoll\, präzise und voller Leidenschaft. \nGO MUSIC ist keine gewöhnliche Konzertreihe – es ist ein Erlebnis\, das die Grenzen der Musik sprengt und jeden Abend in ein einzigartiges Happening verwandelt. Wer dabei sein will\, sollte sich diese Tournee nicht entgehen lassen. Es erwartet euch ein Abend voller mitreißender Klänge\, unvorhersehbarer musikalischer Momente und purer Energie.\nLasst euch diese musikalische Explosion nicht entgehen – GO MUSIC ist im März wieder unterwegs und wird die Konzertbühnen zum Beben bringen! \nEinlass 19 Uhr\, Beginn 20 Uhr \nTickets VK 15€ / AK 18€: \nOnline: https://eventfrog.de/de/p/konzert/pop-rock/go-music-im-maerz-musikalische-explosion-der-extraklasse-7297679803129277930.html \noder im Falko oder unter Tel.: 0171-7572912
URL:https://www.falkos-butze.de/event/go-music-2/
LOCATION:Butze\, Butzenstr. 43\, Tönisvorst\, NRW\, 47918\, Deutschland
CATEGORIES:All Events
ATTACH;FMTTYPE=image/jpeg:https://www.falkos-butze.de/wp-content/uploads/2025/01/butze_hoch.jpg
END:VEVENT
BEGIN:VEVENT
DTSTART;TZID=Europe/Berlin:20250314T190000
DTEND;TZID=Europe/Berlin:20250314T235900
DTSTAMP:20260426T044815
CREATED:20250220T144016Z
LAST-MODIFIED:20250220T144016Z
UID:2005-1741978800-1741996740@www.falkos-butze.de
SUMMARY:ALEX's KEPT SECRET - New Urban Soul
DESCRIPTION:ALEX’s KEPT SECRET ? … das ist das große »S« in Soul ! \nDie Soulformation um die Krefelder Singer-Songwriterin Alex Funken präsentiert ihren typischen „New Urban Soul“. Eine spannende Fusion innovativer Popsongformate mit zeitloser Soulatmosphäre\, welches die Basis für Alex‘s unverkennbare Stimme bietet. \nMit Vanessa Harrell präsentieren sich die beiden Frontfrauen als stimmgewaltiges »Power–Duo«. Ob grooviger »Motown-Soul«\, Discofunk mit »Shaft-Appeal«\, großes Drama mit »007-Touch« bis hin zur » mega soften« Blues Ballade – freut euch auf ne energiegeladene Soulverschmelzung. \nALEX’s KEPT SECRET sind\, damit auch dieses Geheimnis keins bleibt …\nAlex Funken – Vocals & Songwriting\nVanessa Harrell – Vocals\nMido Zajmovic – Bass\nMichael Hasselmann – Guitar\nMarkus Ostfeld – Drums\nTobias Krause – Keys\nCharles Hill – Sound \nEinlass 19 Uhr\, Beginn 20 Uhr \nTickets VK 15€ / AK 18€: \nOnline: https://eventfrog.de/de/p/konzert/pop-rock/alex-s-kept-secret-new-urban-soul-7298347374740549717.html \noder im Falko Tel.: 02152-9947226 oder unter Tel.: 0171-7572912
URL:https://www.falkos-butze.de/event/alexs-kept-secret-new-urban-soul/
LOCATION:Butze\, Butzenstr. 43\, Tönisvorst\, NRW\, 47918\, Deutschland
CATEGORIES:All Events
ATTACH;FMTTYPE=image/jpeg:https://www.falkos-butze.de/wp-content/uploads/2025/02/Flyer-ALEXs-KEPT-SECRET.jpg
END:VEVENT
BEGIN:VEVENT
DTSTART;TZID=Europe/Berlin:20250321T190000
DTEND;TZID=Europe/Berlin:20250321T235900
DTSTAMP:20260426T044815
CREATED:20250307T104631Z
LAST-MODIFIED:20250307T104631Z
UID:2011-1742583600-1742601540@www.falkos-butze.de
SUMMARY:The Paddy Boy Zimmermann Band
DESCRIPTION:The Paddy Boy Zimmermann Band ist die neue Bluesrock-Band des Mönchengladbacher (DE) Gitarristen Paddy Boy Zimmermann (geb. 1982). Paddy arbeitet seit vielen Jahren als Studio- & Livegitarrist für diverse Bands und Solokünstler mit denen er regelmässig tourt. Vielen ist er als Teil des Duos Rob Collins & Paddy Boy und als Gitarrist des deutschen Bluesharp-Virtuosen und mehrfachem Bluesaward Gewinners Chris Kramer ein Begriff. Während der Hochzeit der Corona-Pandemie verabredete er sich mit seinen Kollegen Rupi Schwarzburger aus Meerbusch und Jan Wienstroer aus Neuss zum jammen während der konzertfreien Lockdown-Monate. Die drei Musiker kannten sich bereits aus diversen Jobs und Projekten und es entwickelte sich schnell eine fantastische Banddynamik. Paddy hatte zu dem Zeitpunkt seit ca. 15 Jahren kein selbstgeschriebenes Material mehr veröffentlicht und fing wieder an Songs zu schreiben. Back to the Roots. Bluesrock im Stile seiner Helden wie den Rolling Stones\, ZZ Top\, Jimi Hendrix oder Rory Gallagher. Die Musik\, die Paddy als Kind zur Gitarre brachte. Im Trio funktionierten die Songs auf anhieb sehr gut und man entschied sich dazu ein Album zu produzieren. Das Debutalbum wurde in 2022 und 2023 in verschiedenen Studios\, u.A. Paddy’s Heimstudio\, aufgenommen und am 22.03.2024 weltweit veröffentlicht. Abgemischt wurden die Songs von Martin Meinschäfer in den Megaphon Studios in Arnsberg. Meinschäfer dürfte Vielen von seiner Arbeit mit Henrik Freischlader und Kai Strauss ein Begriff sein. Produziert hat Paddy selbst. Bassist Rupi Schwarzburger ist ein alter Hase im Geschäft und hat als Bassist u.A. für die Weather Girls und die Bläck Fööss gearbeitet. Schlagzeuger Jan Wienstroer spielte in der legendären Harald Schmidt Show Band und ist ebenfalls Schlagzeuger des Songwriters Wolf Maahn. Das Debütalbum erzielte beste Bewertungen in vielen namhaften Fachmagazinen (Eclipsed\, GoodTimes\, bluesnews\, …) und war unter anderem Album des Monats in Deutschlands grösstem Musikermagazin „Gitarre&Bass“. \nEinlass 19 Uhr\, Beginn 20 Uhr \nTickets VK 14€ / AK 17€: \nOnline: https://eventfrog.de/de/p/konzert/pop-rock/the-paddy-boy-zimmermann-band-7303725644952642759.html \noder im Falko Tel.: 02152-9947226 oder unter Tel.: 0171-7572912
URL:https://www.falkos-butze.de/event/the-paddy-boy-zimmermann-band/
LOCATION:Butze\, Butzenstr. 43\, Tönisvorst\, NRW\, 47918\, Deutschland
CATEGORIES:All Events
ATTACH;FMTTYPE=image/jpeg:https://www.falkos-butze.de/wp-content/uploads/2025/03/Flyer_PBZ_BUTZE_25.jpg
END:VEVENT
BEGIN:VEVENT
DTSTART;TZID=Europe/Berlin:20250326T190000
DTEND;TZID=Europe/Berlin:20250326T235900
DTSTAMP:20260426T044815
CREATED:20250130T150900Z
LAST-MODIFIED:20250309T145752Z
UID:1997-1743015600-1743033540@www.falkos-butze.de
SUMMARY:Dennis Hormes and Friends
DESCRIPTION:Dennis Hormes and Friends. Auch im März verzaubert euch Dennis Hormes and Friends wieder mit einer frischen Mischung aus Soul\, Pop\, Funk und Blues Songs. Dieses Mal hat Dennis folgende Besetzung dabei. \nSvenja Schmidt – Vocal & Keys\nZacky Tsoukas – Drums\nGünter Asbek – Bass / Vocals\nDaniel Sok – Keys\nDennis Hormes – Guitar / Vocals \nEinlass 19 Uhr\, Beginn 20 Uhr \nTickets VK 15€ / AK 20€: \nOnline: https://eventfrog.de/de/p/konzert/pop-rock/dennis-hormes-and-friends-7304512939486123477.html \noder im Falko Tel.: 02152-9947226 oder unter Tel.: 0171-757291
URL:https://www.falkos-butze.de/event/dennis-hormes-and-friends-9/
LOCATION:Butze\, Butzenstr. 43\, Tönisvorst\, NRW\, 47918\, Deutschland
CATEGORIES:All Events
ATTACH;FMTTYPE=image/jpeg:https://www.falkos-butze.de/wp-content/uploads/2025/01/Flyer-2025-02-Dennis-and-Friends-web.jpg
END:VEVENT
END:VCALENDAR