BEGIN:VCALENDAR
VERSION:2.0
PRODID:-//Butze Eventlocation - ECPv6.0.4//NONSGML v1.0//EN
CALSCALE:GREGORIAN
METHOD:PUBLISH
X-ORIGINAL-URL:https://www.falkos-butze.de
X-WR-CALDESC:Events for Butze Eventlocation
REFRESH-INTERVAL;VALUE=DURATION:PT1H
X-Robots-Tag:noindex
X-PUBLISHED-TTL:PT1H
BEGIN:VTIMEZONE
TZID:Europe/Berlin
BEGIN:DAYLIGHT
TZOFFSETFROM:+0100
TZOFFSETTO:+0200
TZNAME:CEST
DTSTART:20250330T010000
END:DAYLIGHT
BEGIN:STANDARD
TZOFFSETFROM:+0200
TZOFFSETTO:+0100
TZNAME:CET
DTSTART:20251026T010000
END:STANDARD
BEGIN:DAYLIGHT
TZOFFSETFROM:+0100
TZOFFSETTO:+0200
TZNAME:CEST
DTSTART:20260329T010000
END:DAYLIGHT
BEGIN:STANDARD
TZOFFSETFROM:+0200
TZOFFSETTO:+0100
TZNAME:CET
DTSTART:20261025T010000
END:STANDARD
END:VTIMEZONE
BEGIN:VEVENT
DTSTART;TZID=Europe/Berlin:20251231T000000
DTEND;TZID=Europe/Berlin:20260301T235900
DTSTAMP:20260425T151053
CREATED:20240529T082921Z
LAST-MODIFIED:20250623T170921Z
UID:1759-1767139200-1772409540@www.falkos-butze.de
SUMMARY:Miete doch mal die Butze !?!
DESCRIPTION:Ihr sucht eine Location\, um euren Geburtstag mal richtig groß zu feiern? Oder für euere Hochzeit oder einen Firmenevent braucht ihr Platz und einen All-Inklusive-Service\, der euch bei eurem Vorhaben tatkräftig unterstützt? \nIn der veranstaltungsfreien Zeit steht euch die Butze als Eventlocation für Firmenfeiern\, Geburtstage\, Hochzeiten\, Partys oder sonstigen Veranstaltungen gerne zur Verfügung. \nWeiter Informationen entnehmt bitte dem Flyer oder kontaktiert uns. \nE-Mail: info@falkos-butze.de\nTelefon: 0171-7572912\nWebseite: www.falkos-butze.de \nDas komplette Butze-Team wünscht euch eine schöne Sommerzeit.
URL:https://www.falkos-butze.de/event/konzert-sommerpause-miete-die-butze/
LOCATION:Butze\, Butzenstr. 43\, Tönisvorst\, NRW\, 47918\, Deutschland
CATEGORIES:All Events
ATTACH;FMTTYPE=image/jpeg:https://www.falkos-butze.de/wp-content/uploads/2024/05/WhatsApp-Bild-2024-04-10-um-22.29.03_0cb64e1c.jpg
END:VEVENT
END:VCALENDAR