BEGIN:VCALENDAR
VERSION:2.0
PRODID:-//Butze Eventlocation - ECPv6.0.4//NONSGML v1.0//EN
CALSCALE:GREGORIAN
METHOD:PUBLISH
X-WR-CALNAME:Butze Eventlocation
X-ORIGINAL-URL:https://www.falkos-butze.de
X-WR-CALDESC:Events for Butze Eventlocation
REFRESH-INTERVAL;VALUE=DURATION:PT1H
X-Robots-Tag:noindex
X-PUBLISHED-TTL:PT1H
BEGIN:VTIMEZONE
TZID:Europe/Berlin
BEGIN:DAYLIGHT
TZOFFSETFROM:+0100
TZOFFSETTO:+0200
TZNAME:CEST
DTSTART:20250330T010000
END:DAYLIGHT
BEGIN:STANDARD
TZOFFSETFROM:+0200
TZOFFSETTO:+0100
TZNAME:CET
DTSTART:20251026T010000
END:STANDARD
END:VTIMEZONE
BEGIN:VEVENT
DTSTART;TZID=Europe/Berlin:20251212T190000
DTEND;TZID=Europe/Berlin:20251212T235900
DTSTAMP:20260425T174845
CREATED:20250623T173037Z
LAST-MODIFIED:20250623T173037Z
UID:2078-1765566000-1765583940@www.falkos-butze.de
SUMMARY:ln Rock with Deep Purple
DESCRIPTION:D-Purple präsentiert die Live- und Studioklassiker der legendären Rockband Deep Purple. \nMit Spielfreude und eigener Frische interpretiert die Band Songs aus den Glanzzeiten des Hardrock und auch immer wieder Hits aus der jüngeren Geschichte der Band. D-Purple sorgt für Wiedererkennunsgwert aus druckvollen Klängen\, mit den typischen Elementen der Klassik und dem Blues. Gekonnt spielen die Musiker bekannte und prägnanten Songs mit eingängigen Riffs wie Black Night\, Smoke on the water\, Burn und Highway Star und auch weniger bekannte Songs wie Never before oder Sometimes\, I feels like screaming nach. \nD-Purple – kommen dem Original ganz nah und laden zum Best Of Songs of Deep Purple zu einer musikalischen Zeitreise ein und erinnert die Zuhörer an die glanzvolle Zeit des Hardrocks! \nMehr Infos www.facebook.com/InRockwithDeepPurple oder www .d-purple.de \nEinlass 19 Uhr\, Beginn 20 Uhr\nTickets VK 15€ / AK 18€: \nOnline: https://eventfrog.de/de/p/konzert/pop-rock/ln-rock-with-deep-purple-7342836288234511931.html \noder im Falko oder unter Tel.: 0171-7572912
URL:https://www.falkos-butze.de/event/ln-rock-with-deep-purple-2/
LOCATION:Butze\, Butzenstr. 43\, Tönisvorst\, NRW\, 47918\, Deutschland
CATEGORIES:All Events
ATTACH;FMTTYPE=image/jpeg:https://www.falkos-butze.de/wp-content/uploads/2025/06/Flyer-BandPlakat-2022-A4.jpg
END:VEVENT
END:VCALENDAR