BEGIN:VCALENDAR
VERSION:2.0
PRODID:-//Butze Eventlocation - ECPv6.0.4//NONSGML v1.0//EN
CALSCALE:GREGORIAN
METHOD:PUBLISH
X-ORIGINAL-URL:https://www.falkos-butze.de
X-WR-CALDESC:Events for Butze Eventlocation
REFRESH-INTERVAL;VALUE=DURATION:PT1H
X-Robots-Tag:noindex
X-PUBLISHED-TTL:PT1H
BEGIN:VTIMEZONE
TZID:Europe/Berlin
BEGIN:DAYLIGHT
TZOFFSETFROM:+0100
TZOFFSETTO:+0200
TZNAME:CEST
DTSTART:20250330T010000
END:DAYLIGHT
BEGIN:STANDARD
TZOFFSETFROM:+0200
TZOFFSETTO:+0100
TZNAME:CET
DTSTART:20251026T010000
END:STANDARD
END:VTIMEZONE
BEGIN:VEVENT
DTSTART;TZID=Europe/Berlin:20251129T190000
DTEND;TZID=Europe/Berlin:20251129T235900
DTSTAMP:20260425T191228
CREATED:20250724T144743Z
LAST-MODIFIED:20250724T150523Z
UID:2153-1764442800-1764460740@www.falkos-butze.de
SUMMARY:Siscus - A Tribute to Neil Young / Support Blues GPS
DESCRIPTION:SISCUS – A TRINUTE TO NEIL YOUNG\nDer Kopf von Siscus\, Frans Clout\, ist die Niederländische Kopie von Neil Young. Was er mit seiner Stimme und Gitarrenspiel bietet\, ist unglaublich. Wenn man die Augen schließt\, meint man\, daß Original steht auf der Bühne. Unterstütz wird er von Holger Seeling am Bass und Ralf Irmen an den Drums. \nSupport an dem Abend macht die Band Blues GPS.\nBlues GPS ist eine Band\, die sich dem Blues und Rock and Roll zugewandt hat. Sie besteht aus 4 Musikern. Von A (Louis Armstrong) bis Z (ZZ Top) spielt die Band\, was guter Blues und Rock and Roll zu bieten hat. Die Besetzung besteht aus Gesang: Ludwig Rox\, Bass: Danjelo Piuzi\, Harp: Uwe Schlotmann und Schlagzeug: Ralf Irmen. \nWährend des Konzertabends geht der Hut rum. Über einen entsprechenden Einwurf würden die Musiker sich freuen. \nEinlass 19 Uhr\, Beginn 20 Uhr
URL:https://www.falkos-butze.de/event/siscus-a-tribute-to-neil-young-support-blues-gps/
LOCATION:Butze\, Butzenstr. 43\, Tönisvorst\, NRW\, 47918\, Deutschland
CATEGORIES:All Events
ATTACH;FMTTYPE=image/jpeg:https://www.falkos-butze.de/wp-content/uploads/2025/07/Flyer-Siscus-Support-Blues-GPS_web.jpg
END:VEVENT
END:VCALENDAR