BEGIN:VCALENDAR
VERSION:2.0
PRODID:-//Butze Eventlocation - ECPv6.0.4//NONSGML v1.0//EN
CALSCALE:GREGORIAN
METHOD:PUBLISH
X-WR-CALNAME:Butze Eventlocation
X-ORIGINAL-URL:https://www.falkos-butze.de
X-WR-CALDESC:Events for Butze Eventlocation
REFRESH-INTERVAL;VALUE=DURATION:PT1H
X-Robots-Tag:noindex
X-PUBLISHED-TTL:PT1H
BEGIN:VTIMEZONE
TZID:Europe/Berlin
BEGIN:DAYLIGHT
TZOFFSETFROM:+0100
TZOFFSETTO:+0200
TZNAME:CEST
DTSTART:20250330T010000
END:DAYLIGHT
BEGIN:STANDARD
TZOFFSETFROM:+0200
TZOFFSETTO:+0100
TZNAME:CET
DTSTART:20251026T010000
END:STANDARD
END:VTIMEZONE
BEGIN:VEVENT
DTSTART;TZID=Europe/Berlin:20251018T190000
DTEND;TZID=Europe/Berlin:20251018T235900
DTSTAMP:20260425T202742
CREATED:20250707T094029Z
LAST-MODIFIED:20250707T094152Z
UID:2127-1760814000-1760831940@www.falkos-butze.de
SUMMARY:COCKY JOE - A Tribute To Joe Cocker
DESCRIPTION:Wer die Musik von “Joe Cocker“ mag\, wird an diesem Abend bestimmt auf seine Kosten kommen. Mit der Band “Cocky Joe“ kommen sieben erfahrene Musiker\, die sich schon seit vielen Jahrzehnten auch in anderen Rockformationen einen Namen gemacht haben. Nach dem Tod von Joe Cocker im Dezember 2014 griff der Mülheimer Sänger Günter Büschges die Idee auf\, eine Cocker Tribute Band zu gründen. Ein Name war schnell gefunden und so wurde die Tribute Band “Cocky Joe“ gegründet. Seit dieser Zeit ist die Band ein sehr gefragter Tribute-Act geworden und ist auch recht häufig auf größeren Bühnen zu finden. Bei ihren Konzerten begeistern sie das Publikum immer wieder durch ihre Spielfreude und vor allem mit ihrem Frontmann “Günter Büschges“ am Mikrofon hätte keine bessere Wahl getroffen werden können. \nFazit: Ein Abend den man nicht verpassen sollte! – Für Joe Cocker-Fans und alle die Spass an guter Live Musik ein Muss! \nCocky Joe sind: Peter Hochheim: Drums Rolf\, Heckenberger: Bass\, Jürgen Wehmeyer: Guitar und Backingvocals\, Colly Franssen Keyboards. Günter Büschges: Lead Vocals. Noah Boyer Lead und Backingvocals und Andrea Schilling Backingvocals. \nEinlass 19 Uhr\, Beginn 20 Uhr\nTickets VK 15€ / AK 18€: \nOnline: https://eventfrog.de/de/p/konzert/pop-rock/cocky-joe-a-tribute-to-joe-cocker-7347920639246785901.html \noder im Falko Tel.: 02152-9947226 oder unter Tel.: 0171-7572912
URL:https://www.falkos-butze.de/event/cocky-joe-a-tribute-to-joe-cocker-2/
LOCATION:Butze\, Butzenstr. 43\, Tönisvorst\, NRW\, 47918\, Deutschland
CATEGORIES:All Events
ATTACH;FMTTYPE=image/jpeg:https://www.falkos-butze.de/wp-content/uploads/2025/06/Cocky-Joe-2025.jpg
END:VEVENT
END:VCALENDAR