BEGIN:VCALENDAR
VERSION:2.0
PRODID:-//Butze Eventlocation - ECPv6.0.4//NONSGML v1.0//EN
CALSCALE:GREGORIAN
METHOD:PUBLISH
X-ORIGINAL-URL:https://www.falkos-butze.de
X-WR-CALDESC:Events for Butze Eventlocation
REFRESH-INTERVAL;VALUE=DURATION:PT1H
X-Robots-Tag:noindex
X-PUBLISHED-TTL:PT1H
BEGIN:VTIMEZONE
TZID:Europe/Berlin
BEGIN:DAYLIGHT
TZOFFSETFROM:+0100
TZOFFSETTO:+0200
TZNAME:CEST
DTSTART:20250330T010000
END:DAYLIGHT
BEGIN:STANDARD
TZOFFSETFROM:+0200
TZOFFSETTO:+0100
TZNAME:CET
DTSTART:20251026T010000
END:STANDARD
END:VTIMEZONE
BEGIN:VEVENT
DTSTART;TZID=Europe/Berlin:20250925T190000
DTEND;TZID=Europe/Berlin:20250925T235900
DTSTAMP:20260425T220724
CREATED:20250623T171455Z
LAST-MODIFIED:20250902T080934Z
UID:2051-1758826800-1758844740@www.falkos-butze.de
SUMMARY:Dennis Hormes and Friends
DESCRIPTION:Dennis Hormes and Friends. Auch im September verzaubert euch Dennis Hormes and Friends wieder mit einer frischen Mischung aus Soul\, Pop\, Funk und Blues Songs. Tickets können absofort erworben werden. \nIm September wird es folgende Besetzung geben. \nRené Pütz – Bass / Vocals\nEttore Olla – Drums\nRené Schlothauer – Keyboard/voc\nDennis Hormes – Gitarre / Vocals \nEinlass 19 Uhr\, Beginn 20 Uhr\nTickets VK 15€ / AK 20€: \nOnline: https://eventfrog.de/de/p/konzert/pop-rock/dennis-hormes-and-friends-7342515334971162196.html \noder im Falko Tel.: 02152-9947226 oder unter Tel.: 0171-757291
URL:https://www.falkos-butze.de/event/dennis-hormes-and-friends-11/
LOCATION:Butze\, Butzenstr. 43\, Tönisvorst\, NRW\, 47918\, Deutschland
CATEGORIES:All Events
ATTACH;FMTTYPE=image/jpeg:https://www.falkos-butze.de/wp-content/uploads/2025/06/Flyer-2025-09-Dennis-and-Friends_web.jpg
END:VEVENT
END:VCALENDAR