BEGIN:VCALENDAR
VERSION:2.0
PRODID:-//Butze Eventlocation - ECPv6.0.4//NONSGML v1.0//EN
CALSCALE:GREGORIAN
METHOD:PUBLISH
X-ORIGINAL-URL:https://www.falkos-butze.de
X-WR-CALDESC:Events for Butze Eventlocation
REFRESH-INTERVAL;VALUE=DURATION:PT1H
X-Robots-Tag:noindex
X-PUBLISHED-TTL:PT1H
BEGIN:VTIMEZONE
TZID:Europe/Berlin
BEGIN:DAYLIGHT
TZOFFSETFROM:+0100
TZOFFSETTO:+0200
TZNAME:CEST
DTSTART:20250330T010000
END:DAYLIGHT
BEGIN:STANDARD
TZOFFSETFROM:+0200
TZOFFSETTO:+0100
TZNAME:CET
DTSTART:20251026T010000
END:STANDARD
END:VTIMEZONE
BEGIN:VEVENT
DTSTART;TZID=Europe/Berlin:20250921T190000
DTEND;TZID=Europe/Berlin:20250921T235900
DTSTAMP:20260425T215719
CREATED:20250626T110621Z
LAST-MODIFIED:20250626T110621Z
UID:2122-1758481200-1758499140@www.falkos-butze.de
SUMMARY:Ben Granfelt - mit neuem Album "It's Personal"
DESCRIPTION:„Als ich vor 50 Jahren anfing Gitarre zu spielen\, hätte ich ganz sicher nicht gedacht\, dass es so kommen würde. Die Gitarre ist mittlerweile im Grunde ein Teil meiner DNA.“ Der Finne Ben Granfelt spielte weltweit in den 90er-Jahren als Mitglied der Leningrad Cowboys und später in den 2000er-Jahren mit Wishbone Ash. Er ist ein Vollblutmusiker\, Sänger\, Songwriter und\, nach eigenen Angaben\, zuallererst ein Gitarrist. „Dass ein Stück Holz mit einigen Metallsaiten mir so viel Freude und Vergnügen im Leben bereiten könnte hatte ich nicht erwartet. Dass das Dehnen einer Saite und ihr ein leichtes Vibrato zu geben in mir dieses Gefühl hervorrufen konnte\, hat mein Leben grundlegend verändert UND die Tatsache\, dass andere Menschen dies für bedeutsam halten und es ihnen ein gutes Gefühl gibt\, ist der ultimative Lohn.“ \nIm Jahr 2023 feierte Ben seinen 60. Geburtstag und veröffentlichte sein 20. Soloalbum „Gratitude“\, eine Hommage an seine Lieblingsgitarristen Gary Moore\, Jeff Beck und Robin Trower. Das Album erhielt großartige Kritiken und 2023 wurde zu Bens bisher geschäftigsten Tourjahr. \nBen ruht sich nicht aus. Seit Ende Mai 2025 steht nun sein 21. Album „It’s Personal“ im Regal. Wer guten\, melodischen\, auf Blues basierenden Rock mag\, ist hier genau richtig. Wer bisher noch nie von Ben gehört hat\, kann sich zudem auf eine verdammt große Überraschung freuen. \nEinlass 19 Uhr\, Beginn 20 Uhr\nTickets VK 18€ / AK 20€: \nOnline: https://eventfrog.de/de/p/konzert/pop-rock/ben-granfelt-mit-neuem-album-it-s-personal-7343957118980982939.html \noder im Falko Tel.: 02152-9947226 oder unter Tel.: 0171-7572912
URL:https://www.falkos-butze.de/event/ben-granfelt-mit-neuem-album-its-personal/
LOCATION:Butze\, Butzenstr. 43\, Tönisvorst\, NRW\, 47918\, Deutschland
CATEGORIES:All Events
ATTACH;FMTTYPE=image/jpeg:https://www.falkos-butze.de/wp-content/uploads/2025/06/Ben_Flyer.jpg
END:VEVENT
END:VCALENDAR