BEGIN:VCALENDAR
VERSION:2.0
PRODID:-//Butze Eventlocation - ECPv6.0.4//NONSGML v1.0//EN
CALSCALE:GREGORIAN
METHOD:PUBLISH
X-ORIGINAL-URL:https://www.falkos-butze.de
X-WR-CALDESC:Events for Butze Eventlocation
REFRESH-INTERVAL;VALUE=DURATION:PT1H
X-Robots-Tag:noindex
X-PUBLISHED-TTL:PT1H
BEGIN:VTIMEZONE
TZID:Europe/Berlin
BEGIN:DAYLIGHT
TZOFFSETFROM:+0100
TZOFFSETTO:+0200
TZNAME:CEST
DTSTART:20250330T010000
END:DAYLIGHT
BEGIN:STANDARD
TZOFFSETFROM:+0200
TZOFFSETTO:+0100
TZNAME:CET
DTSTART:20251026T010000
END:STANDARD
END:VTIMEZONE
BEGIN:VEVENT
DTSTART;TZID=Europe/Berlin:20250919T190000
DTEND;TZID=Europe/Berlin:20250919T235900
DTSTAMP:20260425T220536
CREATED:20250803T160454Z
LAST-MODIFIED:20250803T160454Z
UID:2179-1758308400-1758326340@www.falkos-butze.de
SUMMARY:The Legacy of Black Sabbath
DESCRIPTION:Europas authentischste Black Sabbath Tribute Band. \nDie Setlist bietet all die Black Sabbath Hits der Ozzy Ära\, die unverkennbar Meilensteine in der Musikgeschichte der Band sind. Unser Ziel und hoher Anspruch ist es\, ganz nah an das Original anzuknüpfen. Die Setlist umfasst die Highlights der musikalischen Karriere Black Sabbaths mit den unvergeßlichen Hits wie Black  Sabbath\, Paranoid\, Iron man\, Children of the Grave\, Changes\, The Wizzard\, Fairies wear Boots\, War pigs\, Sweat leaf\, Snowblind\, Symptom of the Universe…… \nFrontmann Mojos Stage Acting\, die brachialen Power Riffs Peters und die treibende Backline Michael und Werner bringen dem Zuschauer ein Live Erlebnis im Stil der Originalbesetzung mit Ozzy Osbourne\, Tony Iommi\, Geezer Butler und Bill Ward \nDie ultimative Tribute Show nicht nur für echte Black Sabbath Fans!!!!! \nEinen kleinen Vorgeschmack findet ihr hier:\n– https://www.youtube.com/@wmclake\n– https://youtu.be/5VBosCqZQ7k \nEinlass 19 Uhr\, Beginn 20 Uhr\nTickets VK 13€ / AK 15€: \nOnline: https://eventfrog.de/de/p/konzert/pop-rock/the-legacy-of-black-sabbath-7357802820630765620.html \noder im Falko Tel.: 02152-9947226 oder unter Tel.: 0171-7572912 \n 
URL:https://www.falkos-butze.de/event/the-legacy-of-black-sabbath/
LOCATION:Butze\, Butzenstr. 43\, Tönisvorst\, NRW\, 47918\, Deutschland
CATEGORIES:All Events
ATTACH;FMTTYPE=image/jpeg:https://www.falkos-butze.de/wp-content/uploads/2025/08/Fyer_web.jpg
END:VEVENT
END:VCALENDAR