BEGIN:VCALENDAR
VERSION:2.0
PRODID:-//Butze Eventlocation - ECPv6.0.4//NONSGML v1.0//EN
CALSCALE:GREGORIAN
METHOD:PUBLISH
X-ORIGINAL-URL:https://www.falkos-butze.de
X-WR-CALDESC:Events for Butze Eventlocation
REFRESH-INTERVAL;VALUE=DURATION:PT1H
X-Robots-Tag:noindex
X-PUBLISHED-TTL:PT1H
BEGIN:VTIMEZONE
TZID:Europe/Berlin
BEGIN:DAYLIGHT
TZOFFSETFROM:+0100
TZOFFSETTO:+0200
TZNAME:CEST
DTSTART:20250330T010000
END:DAYLIGHT
BEGIN:STANDARD
TZOFFSETFROM:+0200
TZOFFSETTO:+0100
TZNAME:CET
DTSTART:20251026T010000
END:STANDARD
END:VTIMEZONE
BEGIN:VEVENT
DTSTART;TZID=Europe/Berlin:20250425T190000
DTEND;TZID=Europe/Berlin:20250425T235900
DTSTAMP:20260426T045100
CREATED:20250412T132222Z
LAST-MODIFIED:20250413T082045Z
UID:2029-1745607600-1745625540@www.falkos-butze.de
SUMMARY:ROXXETTE 100% LIVE - Crash! Boom! Bang! Tour
DESCRIPTION:ROXXETTE 100% Live – Crash! Boom! Bang! Tour \nPop-Meilensteine aus 30 Jahren „Roxette“ \nDie Tribute-Band ROXXETTE steht für energiegeladene Hits aus drei Jahrzehnten einer der weltweit erfolgreichsten Bands: Roxette. Das Repertoire von ROXXETTE wartet mit bekannten Hits wie „The Look“\, „Listen To Your Heart“\, „How Do You Do!“\, „It Must Have Been Love“ oder „Joyride“ auf. Um den Spannungsbogen über den ganzen Auftritt aufrecht zu halten\, wird aber auch ein Blick auf weniger bekannte Titel der schwedischen Hitfabrik gegeben\, die für die eine oder andere Überraschung sorgen sollten. Wie schon das Original überzeugt auch das von ROXXETTE-Frontduo Edita Abdieski (X-Factor 2010) und Marius „Muri“ Müller (The Voice of Germany  2024) angeführte Tribute-Band mit einer mitreißenden Bühnenpräsenz sowie eingängigen Songs\, die einfach jeder kennt und die jeden auf die Tanzfläche treiben. Stillsitzen? Bei ROXXETTE nicht möglich! \nROXXETTE sind:\nEdita Abdieski (Lead Vocals)\nMarius „Muri“ Müller (Lead Vocals)\nMatthias Pirner (Keyboards)\nEddi Kara-Osman (Guitar)\nFabian DEE Dammers (Guitar)\nSimo Cawni (Bass)\nDavid Heyer (Drums) \nEinlass 19 Uhr\, Beginn 20 Uhr \nTickets VK 19€ / AK 24€: \nOnline: https://eventfrog.de/de/p/konzert/pop-rock/roxxette-100-live-crash-boom-bang-tour-7316811554950769365.html \noder im Falko Tel.: 02152-9947226 oder unter Tel.: 0171-7572912
URL:https://www.falkos-butze.de/event/roxxette-100-live-crash-boom-bang-tour/
LOCATION:Butze\, Butzenstr. 43\, Tönisvorst\, NRW\, 47918\, Deutschland
CATEGORIES:All Events
ATTACH;FMTTYPE=image/jpeg:https://www.falkos-butze.de/wp-content/uploads/2025/04/WhatsApp-Bild-2025-04-12-um-13.33.28_0d6a44bc.jpg
END:VEVENT
END:VCALENDAR