BEGIN:VCALENDAR
VERSION:2.0
PRODID:-//Butze Eventlocation - ECPv6.0.4//NONSGML v1.0//EN
CALSCALE:GREGORIAN
METHOD:PUBLISH
X-ORIGINAL-URL:https://www.falkos-butze.de
X-WR-CALDESC:Events for Butze Eventlocation
REFRESH-INTERVAL;VALUE=DURATION:PT1H
X-Robots-Tag:noindex
X-PUBLISHED-TTL:PT1H
BEGIN:VTIMEZONE
TZID:Europe/Berlin
BEGIN:DAYLIGHT
TZOFFSETFROM:+0100
TZOFFSETTO:+0200
TZNAME:CEST
DTSTART:20250330T010000
END:DAYLIGHT
BEGIN:STANDARD
TZOFFSETFROM:+0200
TZOFFSETTO:+0100
TZNAME:CET
DTSTART:20251026T010000
END:STANDARD
END:VTIMEZONE
BEGIN:VEVENT
DTSTART;TZID=Europe/Berlin:20250226T190000
DTEND;TZID=Europe/Berlin:20250226T235900
DTSTAMP:20260426T061733
CREATED:20250130T144941Z
LAST-MODIFIED:20250130T144941Z
UID:1986-1740596400-1740614340@www.falkos-butze.de
SUMMARY:Dennis Hormes and Friends
DESCRIPTION:Dennis Hormes and Friends. Im Februar verzaubert euch Dennis Hormes and Friends wieder mit frischen Songs. Für diesen Monat hat Dennis folgende Besetzung dabei. \nRene Pütz – Vocals/Guitar\nDirk Sengotta – Drums\nGünter Asbek – Bass / Vocals\nDennis Hormes – Guitar / Vocals \nEinlass 19 Uhr\, Beginn 20 Uhr \nTickets VK 15€ / AK 20€: \nOnline: https://eventfrog.de/de/p/konzert/pop-rock/dennis-hormes-friends-7290651008195122959.html \noder im Falko Tel.: 02152-9947226 oder unter Tel.: 0171-7572912
URL:https://www.falkos-butze.de/event/dennis-hormes-and-friends-8/
LOCATION:Butze\, Butzenstr. 43\, Tönisvorst\, NRW\, 47918\, Deutschland
CATEGORIES:All Events
ATTACH;FMTTYPE=image/jpeg:https://www.falkos-butze.de/wp-content/uploads/2025/01/Flyer-2025-02-Dennis-and-Friends.jpg
END:VEVENT
END:VCALENDAR